BEGIN:VCALENDAR
VERSION:2.0
PRODID:-//Energy Evaluation//NONSGML Events//EN
BEGIN:VEVENT
DTSTART;VALUE=DATE:20231214
SUMMARY:EEE &#8220\;Lunch &#038\; Learn&#8221\; online discussion on “Emerging moral dilemmas for evaluators when energy security policies conflict with the climate emergency”
DESCRIPTION:Energy Evaluation Europe "Lunch & Learn"
URL;VALUE=URI:https://energy-evaluation.org/agenda/eee-lunch-learn-2/
END:VEVENT
END:VCALENDAR
